BEGIN:VCALENDAR
VERSION:2.0
PRODID:-//CORE Consultores - ECPv6.5.1.4//NONSGML v1.0//EN
CALSCALE:GREGORIAN
METHOD:PUBLISH
X-ORIGINAL-URL:https://coreconsultores.net
X-WR-CALDESC:Eventos para CORE Consultores
REFRESH-INTERVAL;VALUE=DURATION:PT1H
X-Robots-Tag:noindex
X-PUBLISHED-TTL:PT1H
BEGIN:VTIMEZONE
TZID:UTC
BEGIN:STANDARD
TZOFFSETFROM:+0000
TZOFFSETTO:+0000
TZNAME:UTC
DTSTART:20260101T000000
END:STANDARD
END:VTIMEZONE
BEGIN:VEVENT
DTSTART;TZID=UTC:20260609T180000
DTEND;TZID=UTC:20260714T220000
DTSTAMP:20260421T190159
CREATED:20260202T140849Z
LAST-MODIFIED:20260330T151829Z
UID:10000085-1781028000-1784066400@coreconsultores.net
SUMMARY:Programa de Certificación SAP S/4HANA Asset Management (PM).
DESCRIPTION:Alexandra Urdaneta
URL:https://coreconsultores.net/event/programa-de-certificacion-sap-s-4hana-asset-management-pm/
CATEGORIES:Teusis Certificate
ATTACH;FMTTYPE=image/jpeg:https://coreconsultores.net/wp-content/uploads/2026/02/Asset-Management.jpg
END:VEVENT
END:VCALENDAR